BEGIN:VCALENDAR
VERSION:2.0
PRODID:-//Providence Financial - ECPv6.15.20//NONSGML v1.0//EN
CALSCALE:GREGORIAN
METHOD:PUBLISH
X-ORIGINAL-URL:https://providencefinancialinc.com
X-WR-CALDESC:Events for Providence Financial
REFRESH-INTERVAL;VALUE=DURATION:PT1H
X-Robots-Tag:noindex
X-PUBLISHED-TTL:PT1H
BEGIN:VTIMEZONE
TZID:America/New_York
BEGIN:DAYLIGHT
TZOFFSETFROM:-0500
TZOFFSETTO:-0400
TZNAME:EDT
DTSTART:20230312T070000
END:DAYLIGHT
BEGIN:STANDARD
TZOFFSETFROM:-0400
TZOFFSETTO:-0500
TZNAME:EST
DTSTART:20231105T060000
END:STANDARD
BEGIN:DAYLIGHT
TZOFFSETFROM:-0500
TZOFFSETTO:-0400
TZNAME:EDT
DTSTART:20240310T070000
END:DAYLIGHT
BEGIN:STANDARD
TZOFFSETFROM:-0400
TZOFFSETTO:-0500
TZNAME:EST
DTSTART:20241103T060000
END:STANDARD
BEGIN:DAYLIGHT
TZOFFSETFROM:-0500
TZOFFSETTO:-0400
TZNAME:EDT
DTSTART:20250309T070000
END:DAYLIGHT
BEGIN:STANDARD
TZOFFSETFROM:-0400
TZOFFSETTO:-0500
TZNAME:EST
DTSTART:20251102T060000
END:STANDARD
END:VTIMEZONE
BEGIN:VEVENT
DTSTART;TZID=America/New_York:20240808T183000
DTEND;TZID=America/New_York:20240808T193000
DTSTAMP:20260422T213942
CREATED:20240730T230342Z
LAST-MODIFIED:20240730T230400Z
UID:8335-1723141800-1723145400@providencefinancialinc.com
SUMMARY:Social Security Webinar - Zachary Gunderson\, Fiduciary Investment Advisor
DESCRIPTION:Claiming Social Security at the Wrong Age May Reduce Your Benefit by up to 57%!\n\nFind out how claiming your Social Security benefits at the right time could mean an extra $100\,000 over your lifetime!\n\n\n\nNew laws and proposed changes to Social Security have the potential to impact your benefits and quality of life during retirement. In a world where suddenly there is so much more uncertainty\, instability and risk\, how we think about retirement may change. In these uncertain times certain strategies could become essential:\n\n\n\n\n\n how to help avoid personal disaster in the face of wild market dips\n\n\n how to avoid a health care financial calamity with elevated health risks\n\n\n 3 timeless techniques to a more stable income amid global disruption\n\n\n how to optimize your Social Security income to help secure your income base\n\n\n strategies to help prevent taxes from taking 30% of your savings\n\n\n how the decisions and policies of the current administration may impact your retirement income\n\n\n how to help reduce taxation on your Social Security after you start receiving your benefits\n\n\n how two special claiming strategies may increase your total benefits\n\n\n how married couples may avoid missing out on substantial benefits\n\n\n how to receive benefits from an ex-spouse\n\nThis LIVE webinar will be presented by Zachary Gunderson\, Fiduciary Investment Advisor. Attendance is FREE but registration is required – call us at (818) 887-6443 to register.
URL:https://providencefinancialinc.com/event/social-security-webinar-13/
LOCATION:CA
ORGANIZER;CN="Providence Financial and Insurance Services%2C Inc.":MAILTO:info@providencefinancialinc.com
END:VEVENT
BEGIN:VEVENT
DTSTART;TZID=America/New_York:20240808T183000
DTEND;TZID=America/New_York:20240808T203000
DTSTAMP:20260422T213942
CREATED:20240716T034847Z
LAST-MODIFIED:20240716T042854Z
UID:8296-1723141800-1723149000@providencefinancialinc.com
SUMMARY:Surviving Retirement Dinner Seminar - Anthony A. Saccaro\, ChFC\, Esq.
DESCRIPTION:Are you concerned about the Financial Market Forecast?\nLearn how to recover\, where to invest\, and how to create income. \nThis informational meal event is for area residents 56 and older who are retired orplanning to retire soon. This informative and entertaining program is COMPLIMENTARY. There is no obligation. Enjoy a complimentary meal limmediately after the presentation. \nPlease join local retirement specialist Anthony A. Saccaro\, CHFC\, JD\, Esq\, who will share insights on taxes\, the economy\, potential changes coming from Washington and what it all means for your retirement. Best of all\, you will leave with information designed to help you act immediately\, such as: \n– Strategies to better position your assets to help minimize inflationary and looming Bear market recession threats to your nest egg and income. \n– How to maintain your purchasing power in retirement\, despite rising inflation. \n– Ways rising inflation will impact your retirement and how to adjust NOW. \n– What safeguards you can put in place to help weather stock market volatility. \n– How to create strategies so you are less likely to outlive your assets. \n– How to help generate income and build an investment portfolio in inflationary times. \n– How do you outpace growing inflation and taxes? \nGetting a second opinion may be one of the most important financial decisions of your life. This dinner seminar is complimentary but you must call us at (818) 887-6443 to reserve your seat.
URL:https://providencefinancialinc.com/event/surviving-retirement-dinner-seminar-anthony-saccaro-chfc-esq/
LOCATION:Ruth’s Chris Steak House Woodland Hills\, 5919 Canoga Ave.\, Woodland Hills\, CA\, 91367\, United States
ORGANIZER;CN="Providence Financial and Insurance Services%2C Inc.":MAILTO:info@providencefinancialinc.com
END:VEVENT
END:VCALENDAR