BEGIN:VCALENDAR
VERSION:2.0
PRODID:-//Providence Financial - ECPv6.15.20//NONSGML v1.0//EN
CALSCALE:GREGORIAN
METHOD:PUBLISH
X-ORIGINAL-URL:https://providencefinancialinc.com
X-WR-CALDESC:Events for Providence Financial
REFRESH-INTERVAL;VALUE=DURATION:PT1H
X-Robots-Tag:noindex
X-PUBLISHED-TTL:PT1H
BEGIN:VTIMEZONE
TZID:America/New_York
BEGIN:DAYLIGHT
TZOFFSETFROM:-0500
TZOFFSETTO:-0400
TZNAME:EDT
DTSTART:20230312T070000
END:DAYLIGHT
BEGIN:STANDARD
TZOFFSETFROM:-0400
TZOFFSETTO:-0500
TZNAME:EST
DTSTART:20231105T060000
END:STANDARD
BEGIN:DAYLIGHT
TZOFFSETFROM:-0500
TZOFFSETTO:-0400
TZNAME:EDT
DTSTART:20240310T070000
END:DAYLIGHT
BEGIN:STANDARD
TZOFFSETFROM:-0400
TZOFFSETTO:-0500
TZNAME:EST
DTSTART:20241103T060000
END:STANDARD
BEGIN:DAYLIGHT
TZOFFSETFROM:-0500
TZOFFSETTO:-0400
TZNAME:EDT
DTSTART:20250309T070000
END:DAYLIGHT
BEGIN:STANDARD
TZOFFSETFROM:-0400
TZOFFSETTO:-0500
TZNAME:EST
DTSTART:20251102T060000
END:STANDARD
END:VTIMEZONE
BEGIN:VEVENT
DTSTART;TZID=America/New_York:20240813T183000
DTEND;TZID=America/New_York:20240813T193000
DTSTAMP:20260422T151739
CREATED:20240801T213536Z
LAST-MODIFIED:20240801T213536Z
UID:8339-1723573800-1723577400@providencefinancialinc.com
SUMMARY:Required Minimum Distribution Webinar - Lorraine Grossman\, Fiduciary Investment Advisor
DESCRIPTION:Learning how to avoid costly mistakes may be your best investment!  \nFind Out How the Current Administration Could Impact Your Retirement Accounts \nNew Tax Laws and recent changes to qualified retirement accounts and IRS mandated Required Minimum Distributions (RMDs) bring advantages and disadvantages. Some changes have the potential to be beneficial; however\, you must make sure you are working with the most current and up-to-date information so you can help avoid costly mistakes. \nMAKE SURE YOU UNDERSTAND THE NEW LAW! \nAs of 2022\, the new law mandates you start taking RMDs from your qualified retirement accounts once you reach age 72. The new provisions can be complex\, with unforgiving consequences. If you make one small error\, you and/or your heirs could be hit with severe penalties. This presentation will bring clarity to how the new changes impact your retirement and how to help avoid IRS problems. \nTOPICS COVERED WILL INCLUDE: \n• What is an RMD\, and why are millions of Americans caught off guard?\n• Strategies for dealing with New Capital Gains Tax Rates\n• Income Strategies in today’s low interest rate environment\n• Inflation is on the rise – What are the long-term effects of your dollar buying less? What are the consequences?\n• How to help calculate your RMDs considering the new law\n• How the age change and the timing for RMD withdrawals could affect you\n• Whether Roth conversions make sense considering the latest changes\n• Tax-Saving Strategies under the current administration\n• Asset allocation strategies to help you avoid cannibalizing your principal when you are taking RMD distributions \nMake sure your RMD strategy is optimized best for you.\nFind out what you need to know to help avoid the 50% IRS penalty!\nThis complimentary educational event is provided as a public service and comes with no obligation. \nThis LIVE webinar will be presented by Lorraine Grossman\, Fiduciary Investment Advisor. Attendance is FREE but registration is required – call us at (818) 887-6443 to register.
URL:https://providencefinancialinc.com/event/required-minimum-distribution-webinar-lorraine-grossman-fiduciary-investment-advisor-3/
LOCATION:CA
ORGANIZER;CN="Providence Financial and Insurance Services%2C Inc.":MAILTO:info@providencefinancialinc.com
END:VEVENT
BEGIN:VEVENT
DTSTART;TZID=America/New_York:20240813T183000
DTEND;TZID=America/New_York:20240813T203000
DTSTAMP:20260422T151739
CREATED:20240716T035005Z
LAST-MODIFIED:20240716T043109Z
UID:8299-1723573800-1723581000@providencefinancialinc.com
SUMMARY:Surviving Retirement Dinner Seminar - Anthony A. Saccaro\, ChFC\, Esq.
DESCRIPTION:Are you concerned about the Financial Market Forecast?\nLearn how to recover\, where to invest\, and how to create income. \nThis informational meal event is for area residents 56 and older who are retired orplanning to retire soon. This informative and entertaining program is COMPLIMENTARY. There is no obligation. Enjoy a complimentary meal limmediately after the presentation. \nPlease join local retirement specialist Anthony A. Saccaro\, CHFC\, JD\, Esq\, who will share insights on taxes\, the economy\, potential changes coming from Washington and what it all means for your retirement. Best of all\, you will leave with information designed to help you act immediately\, such as: \n– Strategies to better position your assets to help minimize inflationary and looming Bear market recession threats to your nest egg and income. \n– How to maintain your purchasing power in retirement\, despite rising inflation. \n– Ways rising inflation will impact your retirement and how to adjust NOW. \n– What safeguards you can put in place to help weather stock market volatility. \n– How to create strategies so you are less likely to outlive your assets. \n– How to help generate income and build an investment portfolio in inflationary times. \n– How do you outpace growing inflation and taxes? \nGetting a second opinion may be one of the most important financial decisions of your life. This dinner seminar is complimentary but you must call us at (818) 887-6443 to reserve your seat.
URL:https://providencefinancialinc.com/event/surviving-retirement-dinner-seminar-anthony-a-saccaro-chfc-esq/
LOCATION:Ruth’s Chris Steak House Woodland Hills\, 5919 Canoga Ave.\, Woodland Hills\, CA\, 91367\, United States
ORGANIZER;CN="Providence Financial and Insurance Services%2C Inc.":MAILTO:info@providencefinancialinc.com
END:VEVENT
END:VCALENDAR