BEGIN:VCALENDAR
VERSION:2.0
PRODID:-//Providence Financial - ECPv6.15.20//NONSGML v1.0//EN
CALSCALE:GREGORIAN
METHOD:PUBLISH
X-WR-CALNAME:Providence Financial
X-ORIGINAL-URL:https://providencefinancialinc.com
X-WR-CALDESC:Events for Providence Financial
REFRESH-INTERVAL;VALUE=DURATION:PT1H
X-Robots-Tag:noindex
X-PUBLISHED-TTL:PT1H
BEGIN:VTIMEZONE
TZID:America/New_York
BEGIN:DAYLIGHT
TZOFFSETFROM:-0500
TZOFFSETTO:-0400
TZNAME:EDT
DTSTART:20230312T070000
END:DAYLIGHT
BEGIN:STANDARD
TZOFFSETFROM:-0400
TZOFFSETTO:-0500
TZNAME:EST
DTSTART:20231105T060000
END:STANDARD
BEGIN:DAYLIGHT
TZOFFSETFROM:-0500
TZOFFSETTO:-0400
TZNAME:EDT
DTSTART:20240310T070000
END:DAYLIGHT
BEGIN:STANDARD
TZOFFSETFROM:-0400
TZOFFSETTO:-0500
TZNAME:EST
DTSTART:20241103T060000
END:STANDARD
BEGIN:DAYLIGHT
TZOFFSETFROM:-0500
TZOFFSETTO:-0400
TZNAME:EDT
DTSTART:20250309T070000
END:DAYLIGHT
BEGIN:STANDARD
TZOFFSETFROM:-0400
TZOFFSETTO:-0500
TZNAME:EST
DTSTART:20251102T060000
END:STANDARD
END:VTIMEZONE
BEGIN:VEVENT
DTSTART;TZID=America/New_York:20240829T183000
DTEND;TZID=America/New_York:20240829T203000
DTSTAMP:20260421T154822
CREATED:20240716T042609Z
LAST-MODIFIED:20240716T042609Z
UID:8317-1724956200-1724963400@providencefinancialinc.com
SUMMARY:Surviving Retirement Dinner Seminar - Lorraine Grossman\, Fiduciary Investment Advisor
DESCRIPTION:Are you concerned about the Financial Market Forecast?\nLearn how to recover\, where to invest\, and how to create income. \nThis informational meal event is for area residents 56 and older who are retired orplanning to retire soon. This informative and entertaining program is COMPLIMENTARY. There is no obligation. Enjoy a complimentary meal limmediately after the presentation. \nPlease join local retirement specialist Lorraine Grossman\, Fiduciary Investment Advisor\, who will share insights on taxes\, the economy\, potential changes coming from Washington and what it all means for your retirement. Best of all\, you will leave with information designed to help you act immediately\, such as: \n– Strategies to better position your assets to help minimize inflationary and looming Bear market recession threats to your nest egg and income. \n– How to maintain your purchasing power in retirement\, despite rising inflation. \n– Ways rising inflation will impact your retirement and how to adjust NOW. \n– What safeguards you can put in place to help weather stock market volatility. \n– How to create strategies so you are less likely to outlive your assets. \n– How to help generate income and build an investment portfolio in inflationary times. \n– How do you outpace growing inflation and taxes? \nGetting a second opinion may be one of the most important financial decisions of your life. This dinner seminar is complimentary but you must call us at (818) 887-6443 to reserve your seat.
URL:https://providencefinancialinc.com/event/surviving-retirement-dinner-seminar-lorraine-grossman-fiduciary-investment-advisor-2/
LOCATION:Paul Martin’s American Grill\, 100 South Westlake Blvd.\, Westlake Village\, CA\, 91362\, United States
ORGANIZER;CN="Providence Financial and Insurance Services%2C Inc.":MAILTO:info@providencefinancialinc.com
END:VEVENT
END:VCALENDAR