BEGIN:VCALENDAR
VERSION:2.0
PRODID:-//Providence Financial - ECPv6.15.20//NONSGML v1.0//EN
CALSCALE:GREGORIAN
METHOD:PUBLISH
X-WR-CALNAME:Providence Financial
X-ORIGINAL-URL:https://providencefinancialinc.com
X-WR-CALDESC:Events for Providence Financial
REFRESH-INTERVAL;VALUE=DURATION:PT1H
X-Robots-Tag:noindex
X-PUBLISHED-TTL:PT1H
BEGIN:VTIMEZONE
TZID:America/New_York
BEGIN:DAYLIGHT
TZOFFSETFROM:-0500
TZOFFSETTO:-0400
TZNAME:EDT
DTSTART:20230312T070000
END:DAYLIGHT
BEGIN:STANDARD
TZOFFSETFROM:-0400
TZOFFSETTO:-0500
TZNAME:EST
DTSTART:20231105T060000
END:STANDARD
BEGIN:DAYLIGHT
TZOFFSETFROM:-0500
TZOFFSETTO:-0400
TZNAME:EDT
DTSTART:20240310T070000
END:DAYLIGHT
BEGIN:STANDARD
TZOFFSETFROM:-0400
TZOFFSETTO:-0500
TZNAME:EST
DTSTART:20241103T060000
END:STANDARD
BEGIN:DAYLIGHT
TZOFFSETFROM:-0500
TZOFFSETTO:-0400
TZNAME:EDT
DTSTART:20250309T070000
END:DAYLIGHT
BEGIN:STANDARD
TZOFFSETFROM:-0400
TZOFFSETTO:-0500
TZNAME:EST
DTSTART:20251102T060000
END:STANDARD
END:VTIMEZONE
BEGIN:VEVENT
DTSTART;TZID=America/New_York:20241010T180000
DTEND;TZID=America/New_York:20241010T193000
DTSTAMP:20260421T094915
CREATED:20241001T013918Z
LAST-MODIFIED:20241001T013918Z
UID:8384-1728583200-1728588600@providencefinancialinc.com
SUMMARY:Required Minimum Distribution Seminar - Lorraine Grossman\, Fiduciary Investment Advisor
DESCRIPTION:Learning how to avoid costly mistakes may be your best investment!  \nFind Out How the Current Administration Could Impact Your Retirement Accounts \nNew Tax Laws and recent changes to qualified retirement accounts and IRS mandated Required Minimum Distributions (RMDs) bring advantages and disadvantages. Some changes have the potential to be beneficial; however\, you must make sure you are working with the most current and up-to-date information so you can help avoid costly mistakes. \nMAKE SURE YOU UNDERSTAND THE NEW LAW! \nAs of 2022\, the new law mandates you start taking RMDs from your qualified retirement accounts once you reach age 72. The new provisions can be complex\, with unforgiving consequences. If you make one small error\, you and/or your heirs could be hit with severe penalties. This presentation will bring clarity to how the new changes impact your retirement and how to help avoid IRS problems. \nTOPICS COVERED WILL INCLUDE: \n• What is an RMD\, and why are millions of Americans caught off guard?\n• Strategies for dealing with New Capital Gains Tax Rates\n• Income Strategies in today’s low interest rate environment\n• Inflation is on the rise – What are the long-term effects of your dollar buying less? What are the consequences?\n• How to help calculate your RMDs considering the new law\n• How the age change and the timing for RMD withdrawals could affect you\n• Whether Roth conversions make sense considering the latest changes\n• Tax-Saving Strategies under the current administration\n• Asset allocation strategies to help you avoid cannibalizing your principal when you are taking RMD distributions \nMake sure your RMD strategy is optimized best for you.\nFind out what you need to know to help avoid the 50% IRS penalty!\nThis complimentary educational event is provided as a public service and comes with no obligation. \nThis seminar will be presented by Lorraine Grossman\, Fiduciary Investment Advisor. Attendance is FREE but registration is required – call us at (818) 887-6443 to register.
URL:https://providencefinancialinc.com/event/required-minimum-distribution-seminar-lorraine-grossman-fiduciary-investment-advisor-3/
LOCATION:Agoura Hills Recreation Center\, 29900 Ladyface Court\, Agoura Hills\, CA\, 91301\, United States
ORGANIZER;CN="Providence Financial and Insurance Services%2C Inc.":MAILTO:info@providencefinancialinc.com
END:VEVENT
END:VCALENDAR