BEGIN:VCALENDAR
VERSION:2.0
PRODID:-//Providence Financial - ECPv6.15.20//NONSGML v1.0//EN
CALSCALE:GREGORIAN
METHOD:PUBLISH
X-WR-CALNAME:Providence Financial
X-ORIGINAL-URL:https://providencefinancialinc.com
X-WR-CALDESC:Events for Providence Financial
REFRESH-INTERVAL;VALUE=DURATION:PT1H
X-Robots-Tag:noindex
X-PUBLISHED-TTL:PT1H
BEGIN:VTIMEZONE
TZID:America/Los_Angeles
BEGIN:DAYLIGHT
TZOFFSETFROM:-0800
TZOFFSETTO:-0700
TZNAME:PDT
DTSTART:20250309T100000
END:DAYLIGHT
BEGIN:STANDARD
TZOFFSETFROM:-0700
TZOFFSETTO:-0800
TZNAME:PST
DTSTART:20251102T090000
END:STANDARD
BEGIN:DAYLIGHT
TZOFFSETFROM:-0800
TZOFFSETTO:-0700
TZNAME:PDT
DTSTART:20260308T100000
END:DAYLIGHT
BEGIN:STANDARD
TZOFFSETFROM:-0700
TZOFFSETTO:-0800
TZNAME:PST
DTSTART:20261101T090000
END:STANDARD
BEGIN:DAYLIGHT
TZOFFSETFROM:-0800
TZOFFSETTO:-0700
TZNAME:PDT
DTSTART:20270314T100000
END:DAYLIGHT
BEGIN:STANDARD
TZOFFSETFROM:-0700
TZOFFSETTO:-0800
TZNAME:PST
DTSTART:20271107T090000
END:STANDARD
END:VTIMEZONE
BEGIN:VEVENT
DTSTART;TZID=America/Los_Angeles:20260203T180000
DTEND;TZID=America/Los_Angeles:20260203T193000
DTSTAMP:20260421T094049
CREATED:20260121T002949Z
LAST-MODIFIED:20260205T205707Z
UID:10179-1770141600-1770147000@providencefinancialinc.com
SUMMARY:Savvy Social Security Planning: Stay Updated and Secure Your Benefits - Seminar with Anthony A. Saccaro\, ChFC\, Esq.
DESCRIPTION:[vc_row][vc_column][vc_column_text css=””] \n\nFind out how claiming your Social Security benefits at the right time could mean an extra $100\,000 over your lifetime! \nNew laws and proposed changes to Social Security have the potential to impact your benefits and quality of life during retirement. In a world where suddenly there is so much more uncertainty\, instability and risk\, how we think about retirement may change. In these uncertain times certain strategies could become essential: \n\n\nBenefit Eligibility: Identify the key factors and timelines for determining your Social Security eligibility.\nClaiming Strategies: Discover the optimal timing and strategies for maximizing your Social Security benefits.\nSpousal and Survivor Benefits: Learn how to optimize Social Security benefits for you\, your spouse\, and survivors.\nTax Implications: Understand how Social Security benefits impact your overall tax situation.\nAdjustments and Cost-of-Living: Explore how changes in cost-of-living adjustments will affect your Social Security benefits.\n\nThis seminar will be presented by Anthony Saccaro\, ChFC\, Esq. \nAttendance is FREE but registration is required. Call us at (818) 887-6443 to register.[/vc_column_text][/vc_column][/vc_row]
URL:https://providencefinancialinc.com/event/savvy-social-security-planning-stay-updated-and-secure-your-benefits-seminar-with-anthony-a-saccaro-chfc-esq-2/
LOCATION:Buena Vista Public Library\, 300 N. Buena Vista St.\, Burbank\, CA\, 91501\, United States
ATTACH;FMTTYPE=image/jpeg:https://providencefinancialinc.com/wp-content/uploads/2026/01/20260203_181556-scaled.jpg
ORGANIZER;CN="Providence Financial and Insurance Services%2C Inc.":MAILTO:info@providencefinancialinc.com
END:VEVENT
END:VCALENDAR