BEGIN:VCALENDAR
VERSION:2.0
PRODID:-//Providence Financial - ECPv6.15.20//NONSGML v1.0//EN
CALSCALE:GREGORIAN
METHOD:PUBLISH
X-ORIGINAL-URL:https://providencefinancialinc.com
X-WR-CALDESC:Events for Providence Financial
REFRESH-INTERVAL;VALUE=DURATION:PT1H
X-Robots-Tag:noindex
X-PUBLISHED-TTL:PT1H
BEGIN:VTIMEZONE
TZID:America/New_York
BEGIN:DAYLIGHT
TZOFFSETFROM:-0500
TZOFFSETTO:-0400
TZNAME:EDT
DTSTART:20250309T070000
END:DAYLIGHT
BEGIN:STANDARD
TZOFFSETFROM:-0400
TZOFFSETTO:-0500
TZNAME:EST
DTSTART:20251102T060000
END:STANDARD
BEGIN:DAYLIGHT
TZOFFSETFROM:-0500
TZOFFSETTO:-0400
TZNAME:EDT
DTSTART:20260308T070000
END:DAYLIGHT
BEGIN:STANDARD
TZOFFSETFROM:-0400
TZOFFSETTO:-0500
TZNAME:EST
DTSTART:20261101T060000
END:STANDARD
BEGIN:DAYLIGHT
TZOFFSETFROM:-0500
TZOFFSETTO:-0400
TZNAME:EDT
DTSTART:20270314T070000
END:DAYLIGHT
BEGIN:STANDARD
TZOFFSETFROM:-0400
TZOFFSETTO:-0500
TZNAME:EST
DTSTART:20271107T060000
END:STANDARD
END:VTIMEZONE
BEGIN:VEVENT
DTSTART;TZID=America/New_York:20260212T183000
DTEND;TZID=America/New_York:20260212T193000
DTSTAMP:20260421T094233
CREATED:20260114T105005Z
LAST-MODIFIED:20260114T105005Z
UID:10110-1770921000-1770924600@providencefinancialinc.com
SUMMARY:RMD Rules & Tax Strategies: Maximize Your Retirement Savings - Webinar with Anthony A. Saccaro\, ChFC\, Esq.
DESCRIPTION:Join us for our exclusive webinar where we reveal: Financial planning often feels like a chore—but securing your retirement shouldn’t. \nWe specialize in retirement planning to help you navigate the complexities of RMDs and Taxes\, ensuring your long-term financial stability. \nOur exclusive webinar while we discuss: \n\nRMD Calculation: Understand how RMDs are calculated and explore any applicable exceptions.\nRMD Tax Impact: Learn how RMDs affect your taxes and strategies to minimize their tax impact.\nRMD Withdrawal Options: Explore your options for using RMD funds\, including considerations for inheritance.\nRMD Planning: Discover effective planning strategies to manage RMDs and achieve your retirement goals.\nRMD Deadlines: Know when to take Required Minimum Distributions (RMDs) from your retirement accounts and the penalties for missing deadlines.\n\nCLICK HERE TO REGISTER
URL:https://providencefinancialinc.com/event/rmd-rules-tax-strategies-maximize-your-retirement-savings-webinar-with-anthony-a-saccaro-chfc-esq-3/
LOCATION:CA
ATTACH;FMTTYPE=image/png:https://providencefinancialinc.com/wp-content/uploads/2025/11/2.png
END:VEVENT
END:VCALENDAR