BEGIN:VCALENDAR
VERSION:2.0
PRODID:-//Providence Financial - ECPv6.15.20//NONSGML v1.0//EN
CALSCALE:GREGORIAN
METHOD:PUBLISH
X-WR-CALNAME:Providence Financial
X-ORIGINAL-URL:https://providencefinancialinc.com
X-WR-CALDESC:Events for Providence Financial
REFRESH-INTERVAL;VALUE=DURATION:PT1H
X-Robots-Tag:noindex
X-PUBLISHED-TTL:PT1H
BEGIN:VTIMEZONE
TZID:America/New_York
BEGIN:DAYLIGHT
TZOFFSETFROM:-0500
TZOFFSETTO:-0400
TZNAME:EDT
DTSTART:20250309T070000
END:DAYLIGHT
BEGIN:STANDARD
TZOFFSETFROM:-0400
TZOFFSETTO:-0500
TZNAME:EST
DTSTART:20251102T060000
END:STANDARD
BEGIN:DAYLIGHT
TZOFFSETFROM:-0500
TZOFFSETTO:-0400
TZNAME:EDT
DTSTART:20260308T070000
END:DAYLIGHT
BEGIN:STANDARD
TZOFFSETFROM:-0400
TZOFFSETTO:-0500
TZNAME:EST
DTSTART:20261101T060000
END:STANDARD
BEGIN:DAYLIGHT
TZOFFSETFROM:-0500
TZOFFSETTO:-0400
TZNAME:EDT
DTSTART:20270314T070000
END:DAYLIGHT
BEGIN:STANDARD
TZOFFSETFROM:-0400
TZOFFSETTO:-0500
TZNAME:EST
DTSTART:20271107T060000
END:STANDARD
END:VTIMEZONE
BEGIN:VEVENT
DTSTART;TZID=America/New_York:20260219T183000
DTEND;TZID=America/New_York:20260219T193000
DTSTAMP:20260421T094034
CREATED:20260130T124721Z
LAST-MODIFIED:20260130T124721Z
UID:10219-1771525800-1771529400@providencefinancialinc.com
SUMMARY:Savvy Social Security Planning: Stay Updated and Secure Your Benefits - Webinar with Anthony Saccaro\, ChFC\, Esq.
DESCRIPTION:[vc_row][vc_column][vc_column_text css=””] \n\nFind out how claiming your Social Security benefits at the right time could mean an extra $100\,000 over your lifetime! \nNew laws and proposed changes to Social Security have the potential to impact your benefits and quality of life during retirement. In a world where suddenly there is so much more uncertainty\, instability and risk\, how we think about retirement may change. In these uncertain times certain strategies could become essential: \n\n\nBenefit Eligibility: Identify the key factors and timelines for determining your Social Security eligibility.\nClaiming Strategies: Discover the optimal timing and strategies for maximizing your Social Security benefits.\nSpousal and Survivor Benefits: Learn how to optimize Social Security benefits for you\, your spouse\, and survivors.\nTax Implications: Understand how Social Security benefits impact your overall tax situation.\nAdjustments and Cost-of-Living: Explore how changes in cost-of-living adjustments will affect your Social Security benefits.\n\nThis webinar will be presented by Anthony Saccaro\, ChFC\, Esq. \nAttendance is FREE but registration is required. \nCLICK HERE TO REGISTER[/vc_column_text][/vc_column][/vc_row]
URL:https://providencefinancialinc.com/event/savvy-social-security-planning-stay-updated-and-secure-your-benefits-webinar-with-anthony-saccaro-chfc-esq-5/
LOCATION:CA
ATTACH;FMTTYPE=image/png:https://providencefinancialinc.com/wp-content/uploads/2025/11/2.png
ORGANIZER;CN="Providence Financial and Insurance Services%2C Inc.":MAILTO:info@providencefinancialinc.com
END:VEVENT
END:VCALENDAR