BEGIN:VCALENDAR
VERSION:2.0
PRODID:-//Providence Financial - ECPv6.15.20//NONSGML v1.0//EN
CALSCALE:GREGORIAN
METHOD:PUBLISH
X-WR-CALNAME:Providence Financial
X-ORIGINAL-URL:https://providencefinancialinc.com
X-WR-CALDESC:Events for Providence Financial
REFRESH-INTERVAL;VALUE=DURATION:PT1H
X-Robots-Tag:noindex
X-PUBLISHED-TTL:PT1H
BEGIN:VTIMEZONE
TZID:America/Los_Angeles
BEGIN:DAYLIGHT
TZOFFSETFROM:-0800
TZOFFSETTO:-0700
TZNAME:PDT
DTSTART:20250309T100000
END:DAYLIGHT
BEGIN:STANDARD
TZOFFSETFROM:-0700
TZOFFSETTO:-0800
TZNAME:PST
DTSTART:20251102T090000
END:STANDARD
BEGIN:DAYLIGHT
TZOFFSETFROM:-0800
TZOFFSETTO:-0700
TZNAME:PDT
DTSTART:20260308T100000
END:DAYLIGHT
BEGIN:STANDARD
TZOFFSETFROM:-0700
TZOFFSETTO:-0800
TZNAME:PST
DTSTART:20261101T090000
END:STANDARD
BEGIN:DAYLIGHT
TZOFFSETFROM:-0800
TZOFFSETTO:-0700
TZNAME:PDT
DTSTART:20270314T100000
END:DAYLIGHT
BEGIN:STANDARD
TZOFFSETFROM:-0700
TZOFFSETTO:-0800
TZNAME:PST
DTSTART:20271107T090000
END:STANDARD
END:VTIMEZONE
BEGIN:VEVENT
DTSTART;TZID=America/Los_Angeles:20260402T183000
DTEND;TZID=America/Los_Angeles:20260402T193000
DTSTAMP:20260423T033758
CREATED:20260312T204720Z
LAST-MODIFIED:20260312T210329Z
UID:10328-1775154600-1775158200@providencefinancialinc.com
SUMMARY:Savvy Social Security Planning: Stay Updated and Secure Your Benefits - Webinar with Anthony A. Saccaro\, ChFC\, Esq.
DESCRIPTION:Find out how claiming your Social Security benefits at the right time could mean an extra $100\,000 over your lifetime! \nNew laws and proposed changes to Social Security have the potential to impact your benefits and quality of life during retirement. In a world where suddenly there is so much more uncertainty\, instability and risk\, how we think about retirement may change. In these uncertain times certain strategies could become essential: \n\n\nBenefit Eligibility: Identify the key factors and timelines for determining your Social Security eligibility.\nClaiming Strategies: Discover the optimal timing and strategies for maximizing your Social Security benefits.\nSpousal and Survivor Benefits: Learn how to optimize Social Security benefits for you\, your spouse\, and survivors.\nTax Implications: Understand how Social Security benefits impact your overall tax situation.\nAdjustments and Cost-of-Living: Explore how changes in cost-of-living adjustments will affect your Social Security benefits.\n\nThis webinar will be presented by Anthony A. Saccaro\, ChFC\, Esq. \nAttendance is FREE but registration is required. \nCLICK HERE TO REGISTER
URL:https://providencefinancialinc.com/event/savvy-social-security-planning-stay-updated-and-secure-your-benefits-webinar-with-anthony-a-saccaro-chfc-esq/
ATTACH;FMTTYPE=image/jpeg:https://providencefinancialinc.com/wp-content/uploads/2026/03/SS-Seminar-1-scaled.jpg
ORGANIZER;CN="Providence Financial and Insurance Services%2C Inc.":MAILTO:info@providencefinancialinc.com
END:VEVENT
BEGIN:VEVENT
DTSTART;TZID=America/Los_Angeles:20260409T180000
DTEND;TZID=America/Los_Angeles:20260409T193000
DTSTAMP:20260423T033758
CREATED:20260402T225504Z
LAST-MODIFIED:20260402T225504Z
UID:10443-1775757600-1775763000@providencefinancialinc.com
SUMMARY:Savvy Social Security Planning: Stay Updated and Secure Your Benefits - Seminar with Anthony A. Saccaro\, ChFC\, Esq.
DESCRIPTION:Find out how claiming your Social Security benefits at the right time could mean an extra $100\,000 over your lifetime! \nNew laws and proposed changes to Social Security have the potential to impact your benefits and quality of life during retirement. In a world where suddenly there is so much more uncertainty\, instability and risk\, how we think about retirement may change. In these uncertain times certain strategies could become essential: \n\n\nBenefit Eligibility: Identify the key factors and timelines for determining your Social Security eligibility.\nClaiming Strategies: Discover the optimal timing and strategies for maximizing your Social Security benefits.\nSpousal and Survivor Benefits: Learn how to optimize Social Security benefits for you\, your spouse\, and survivors.\nTax Implications: Understand how Social Security benefits impact your overall tax situation.\nAdjustments and Cost-of-Living: Explore how changes in cost-of-living adjustments will affect your Social Security benefits.\n\nThis seminar will be presented by Anthony A. Saccaro\, ChFC\, Esq. \nAttendance is FREE but registration is required: \nwww.youRSVP.com  \ncode: RAXSAG
URL:https://providencefinancialinc.com/event/savvy-social-security-planning-stay-updated-and-secure-your-benefits-seminar-with-anthony-a-saccaro-chfc-esq-3/
LOCATION:Calabasas Community Center\, 27040 Malibu Hills Rd.\, Calabasas\, CA\, 91301\, United States
ATTACH;FMTTYPE=image/jpeg:https://providencefinancialinc.com/wp-content/uploads/2026/04/SS-Seminar-1-scaled.jpg
ORGANIZER;CN="Providence Financial and Insurance Services%2C Inc.":MAILTO:info@providencefinancialinc.com
END:VEVENT
BEGIN:VEVENT
DTSTART;TZID=America/Los_Angeles:20260409T183000
DTEND;TZID=America/Los_Angeles:20260409T193000
DTSTAMP:20260423T033758
CREATED:20260312T205755Z
LAST-MODIFIED:20260312T210139Z
UID:10332-1775759400-1775763000@providencefinancialinc.com
SUMMARY:7 Most Common Mistakes Retirees Make and How to Avoid Them - Webinar with Anthony A. Saccaro\, ChFC\, Esq.
DESCRIPTION:Why this Webinar is a Must Attend: \n* Avoid Costly Penalties and Taxes: Stay informed on recent RMD changes with our guidance to avoid penalties and tax issues\, protecting your retirement savings. \n* Stay Current with Evolving Regulations: Learn about the latest changes in regulations and rules affecting your retirement accounts to ensure you’re making the most informed decisions. \n* Receive Expert Insights and Personalized Advice: Benefit from advice directly from financial experts\, who can provide clarity on complex topics and answer your specific questions for better financial planning. \n\n\n\nAgenda:\n\nMistake #1: Not Knowing How The New “SECURE ACTS” Impact Your Accounts\nMistake #2: Missing a Required Minimum Distribution – A Costly Error\nMistake #3: Not Properly Designating Beneficiaries – Avoid Costly Legal Issues\n…and much more\n\nThis webinar will be presented by Anthony A. Saccaro\, ChFC\, Esq. Attendance is FREE. \nCLICK HERE TO REGISTER
URL:https://providencefinancialinc.com/event/7-most-common-mistakes-retirees-make-and-how-to-avoid-them-webinar-with-anthony-a-saccaro-chfc-esq-9/
ATTACH;FMTTYPE=image/jpeg:https://providencefinancialinc.com/wp-content/uploads/2026/03/SS-Seminar-scaled.jpg
END:VEVENT
BEGIN:VEVENT
DTSTART;TZID=America/Los_Angeles:20260414T180000
DTEND;TZID=America/Los_Angeles:20260414T193000
DTSTAMP:20260423T033758
CREATED:20260402T225706Z
LAST-MODIFIED:20260402T225706Z
UID:10446-1776189600-1776195000@providencefinancialinc.com
SUMMARY:Savvy Social Security Planning: Stay Updated and Secure Your Benefits - Seminar with Anthony A. Saccaro\, ChFC\, Esq.
DESCRIPTION:Find out how claiming your Social Security benefits at the right time could mean an extra $100\,000 over your lifetime! \nNew laws and proposed changes to Social Security have the potential to impact your benefits and quality of life during retirement. In a world where suddenly there is so much more uncertainty\, instability and risk\, how we think about retirement may change. In these uncertain times certain strategies could become essential: \n\n\nBenefit Eligibility: Identify the key factors and timelines for determining your Social Security eligibility.\nClaiming Strategies: Discover the optimal timing and strategies for maximizing your Social Security benefits.\nSpousal and Survivor Benefits: Learn how to optimize Social Security benefits for you\, your spouse\, and survivors.\nTax Implications: Understand how Social Security benefits impact your overall tax situation.\nAdjustments and Cost-of-Living: Explore how changes in cost-of-living adjustments will affect your Social Security benefits.\n\nThis seminar will be presented by Anthony A. Saccaro\, ChFC\, Esq. \nAttendance is FREE but registration is required: \nwww.youRSVP.com  \ncode: RAXSAG
URL:https://providencefinancialinc.com/event/savvy-social-security-planning-stay-updated-and-secure-your-benefits-seminar-with-anthony-a-saccaro-chfc-esq-4/
LOCATION:Calabasas Community Center\, 27040 Malibu Hills Rd.\, Calabasas\, CA\, 91301\, United States
ATTACH;FMTTYPE=image/jpeg:https://providencefinancialinc.com/wp-content/uploads/2026/04/SS-Seminar-1-scaled.jpg
ORGANIZER;CN="Providence Financial and Insurance Services%2C Inc.":MAILTO:info@providencefinancialinc.com
END:VEVENT
BEGIN:VEVENT
DTSTART;TZID=America/Los_Angeles:20260514T180000
DTEND;TZID=America/Los_Angeles:20260514T193000
DTSTAMP:20260423T033758
CREATED:20260423T002727Z
LAST-MODIFIED:20260423T002727Z
UID:10523-1778781600-1778787000@providencefinancialinc.com
SUMMARY:RMD Rules and Tax Strategies: Maximize Your Retirement Savings - Seminar with Anthony A. Saccaro\, ChFC\, Esq.
DESCRIPTION:[vc_row][vc_column][vc_column_text css=””]Financial planning often feels like a chore – but securing your retirement shouldn’t. \nWe specialize in retirement planning to help you navigate the complexities of RMDs and Taxes\, ensuring your long-term financial stability. \nJoin us for an exclusive seminar where we will discuss: \n\nRMD Calculation: Understand how RMDs are calculated and explore any applicable exceptions.\nRMD Tax Impact: Learn how RMDs affect your taxes and strategies to minimize their tax impact.\nRMD Withdrawal Options: Explore your options for using RMD funds\, including considerations for inheritance.\nRMD Planning: Discover effective planning strategies to manage RMDs and achieve your retirement goals.\nRMD Deadlines: Know when to take Required Minimum Distributions (RMDs) from your retirement accounts and the penalties for missing deadlines.\n\nThis seminar will be presented by Anthony A. Saccaro\, ChFC\, Esq. \nAttendance is free but registration is required. Register here.[/vc_column_text][/vc_column][/vc_row]
URL:https://providencefinancialinc.com/event/rmd-rules-and-tax-strategies-maximize-your-retirement-savings-seminar-with-anthony-a-saccaro-chfc-esq-3/
LOCATION:Buena Vista Public Library\, 300 N. Buena Vista St.\, Burbank\, CA\, 91501\, United States
ATTACH;FMTTYPE=image/jpeg:https://providencefinancialinc.com/wp-content/uploads/2026/01/20260203_181442-scaled.jpg
ORGANIZER;CN="Providence Financial and Insurance Services%2C Inc.":MAILTO:info@providencefinancialinc.com
END:VEVENT
BEGIN:VEVENT
DTSTART;TZID=America/Los_Angeles:20260521T180000
DTEND;TZID=America/Los_Angeles:20260521T193000
DTSTAMP:20260423T033758
CREATED:20260423T003011Z
LAST-MODIFIED:20260423T003011Z
UID:10525-1779386400-1779391800@providencefinancialinc.com
SUMMARY:RMD Rules and Tax Strategies: Maximize Your Retirement Savings - Seminar with Lorraine Grossman\, Fiduciary Investment Advisor
DESCRIPTION:[vc_row][vc_column][vc_column_text css=””]Financial planning often feels like a chore – but securing your retirement shouldn’t. \nWe specialize in retirement planning to help you navigate the complexities of RMDs and Taxes\, ensuring your long-term financial stability. \nJoin us for an exclusive seminar where we will discuss: \n\nRMD Calculation: Understand how RMDs are calculated and explore any applicable exceptions.\nRMD Tax Impact: Learn how RMDs affect your taxes and strategies to minimize their tax impact.\nRMD Withdrawal Options: Explore your options for using RMD funds\, including considerations for inheritance.\nRMD Planning: Discover effective planning strategies to manage RMDs and achieve your retirement goals.\nRMD Deadlines: Know when to take Required Minimum Distributions (RMDs) from your retirement accounts and the penalties for missing deadlines.\n\nThis seminar will be presented by Lorraine Grossman\, Fiduciary Investment Advisor. \nAttendance is free but registration is required. Register here.[/vc_column_text][/vc_column][/vc_row]
URL:https://providencefinancialinc.com/event/rmd-rules-and-tax-strategies-maximize-your-retirement-savings-seminar-with-lorraine-grossman-fiduciary-investment-advisor/
LOCATION:Buena Vista Public Library\, 300 N. Buena Vista St.\, Burbank\, CA\, 91501\, United States
ATTACH;FMTTYPE=image/jpeg:https://providencefinancialinc.com/wp-content/uploads/2026/01/20260203_181442-scaled.jpg
ORGANIZER;CN="Providence Financial and Insurance Services%2C Inc.":MAILTO:info@providencefinancialinc.com
END:VEVENT
END:VCALENDAR