BEGIN:VCALENDAR
VERSION:2.0
PRODID:-//Providence Financial - ECPv6.15.20//NONSGML v1.0//EN
CALSCALE:GREGORIAN
METHOD:PUBLISH
X-WR-CALNAME:Providence Financial
X-ORIGINAL-URL:https://providencefinancialinc.com
X-WR-CALDESC:Events for Providence Financial
REFRESH-INTERVAL;VALUE=DURATION:PT1H
X-Robots-Tag:noindex
X-PUBLISHED-TTL:PT1H
BEGIN:VTIMEZONE
TZID:UTC
BEGIN:STANDARD
TZOFFSETFROM:+0000
TZOFFSETTO:+0000
TZNAME:UTC
DTSTART:20180101T000000
END:STANDARD
END:VTIMEZONE
BEGIN:VEVENT
DTSTART;TZID=UTC:20190606T183000
DTEND;TZID=UTC:20190606T200000
DTSTAMP:20260422T155228
CREATED:20190509T052458Z
LAST-MODIFIED:20190509T053827Z
UID:6050-1559845800-1559851200@providencefinancialinc.com
SUMMARY:Social Security Seminar
DESCRIPTION:This seminar will answer questions such as:\n– when do I have to take my Social Security?\n– is it better to wait to collect Social Security until later in life?\n– how much tax liability will it create?\n– what Social Security benefits are available to married couples? \nThe seminar is FREE to the public but seating is limited. Call us today at 844.744.8477 to reserve your space\, or register online at www.yoursvp.org (enter code JUVDEL). \nThe workshop will be taught by Lorraine Grossman\, Registered Investment Advisor.
URL:https://providencefinancialinc.com/event/social-security-seminar/
LOCATION:Woodland Hills Public Library\, 22200 Ventura Blvd.\, Woodland Hills\, CA\, 91364\, United States
ORGANIZER;CN="Providence Financial and Insurance Services%2C Inc.":MAILTO:info@providencefinancialinc.com
END:VEVENT
BEGIN:VEVENT
DTSTART;TZID=UTC:20190605T140000
DTEND;TZID=UTC:20190605T153000
DTSTAMP:20260422T155228
CREATED:20190509T051915Z
LAST-MODIFIED:20190509T053843Z
UID:6048-1559743200-1559748600@providencefinancialinc.com
SUMMARY:Required Minimum Distribution Seminar
DESCRIPTION:If you’re approaching 70\, the IRS wants your IRA! Baby boomers who own a traditional IRA\, 401(k) or other qualified retirement plan will soon have to face taking their Required Minimum Distributions (RMD’s). Suddenly\, a portion of your tax-deferred savings will be taxable again and the impact on your portfolio could be significant if you’re not armed with the right information. \nThis seminar will answer questions such as:\nwhen do I have to take my RMD – and are there exceptions?\nhow much will I have to take out?\nhow much tax liability will it create?\nhow does it impact my Social Security? \nThe seminar is FREE to the public but seating is limited. Call us today at 855.212.4838 to reserve your space or RSVP online at www.yoursvp.org (enter code FEVJAL). \nThe workshop will be taught by Anthony A. Saccaro\, ChFC\, J.D.\, who is a member of the Ed Slott Master Elite IRA Advisor Group.
URL:https://providencefinancialinc.com/event/required-minimum-distribution-seminar-4/
LOCATION:Northridge Public Library\, 9051 Darby Avenue\, Nothridge\, CA\, 91325\, United States
ORGANIZER;CN="Providence Financial and Insurance Services%2C Inc.":MAILTO:info@providencefinancialinc.com
END:VEVENT
BEGIN:VEVENT
DTSTART;TZID=UTC:20190530T140000
DTEND;TZID=UTC:20190530T153000
DTSTAMP:20260422T155228
CREATED:20190509T051810Z
LAST-MODIFIED:20190509T053859Z
UID:6045-1559224800-1559230200@providencefinancialinc.com
SUMMARY:Required Minimum Distribution Seminar
DESCRIPTION:If you’re approaching 70\, the IRS wants your IRA! Baby boomers who own a traditional IRA\, 401(k) or other qualified retirement plan will soon have to face taking their Required Minimum Distributions (RMD’s). Suddenly\, a portion of your tax-deferred savings will be taxable again and the impact on your portfolio could be significant if you’re not armed with the right information. \nThis seminar will answer questions such as:\nwhen do I have to take my RMD – and are there exceptions?\nhow much will I have to take out?\nhow much tax liability will it create?\nhow does it impact my Social Security? \nThe seminar is FREE to the public but seating is limited. Call us today at 855.212.4838 to reserve your space or RSVP online at www.yoursvp.org (enter code FEVJAL). \nThe workshop will be taught by Anthony A. Saccaro\, ChFC\, J.D.\, who is a member of the Ed Slott Master Elite IRA Advisor Group.
URL:https://providencefinancialinc.com/event/required-minimum-distribution-seminar-3/
LOCATION:Northridge Public Library\, 9051 Darby Avenue\, Nothridge\, CA\, 91325\, United States
ORGANIZER;CN="Providence Financial and Insurance Services%2C Inc.":MAILTO:info@providencefinancialinc.com
END:VEVENT
BEGIN:VEVENT
DTSTART;TZID=UTC:20190514T180000
DTEND;TZID=UTC:20190514T193000
DTSTAMP:20260422T155228
CREATED:20190509T051531Z
LAST-MODIFIED:20190509T053921Z
UID:6043-1557856800-1557862200@providencefinancialinc.com
SUMMARY:Required Minimum Distribution Seminar
DESCRIPTION:If you’re approaching 70\, the IRS wants your IRA! Baby boomers who own a traditional IRA\, 401(k) or other qualified retirement plan will soon have to face taking their Required Minimum Distributions (RMD’s). Suddenly\, a portion of your tax-deferred savings will be taxable again and the impact on your portfolio could be significant if you’re not armed with the right information. \nThis seminar will answer questions such as:\nwhen do I have to take my RMD – and are there exceptions?\nhow much will I have to take out?\nhow much tax liability will it create?\nhow does it impact my Social Security? \nThe seminar is FREE to the public but seating is limited. Call us today at 844.326.4392 to reserve your space or RSVP online at www.yoursvp.org (enter code BABPUK). \nThe workshop will be taught by Anthony A. Saccaro\, ChFC\, J.D.\, who is a member of the Ed Slott Master Elite IRA Advisor Group.
URL:https://providencefinancialinc.com/event/required-minimum-distribution-seminar-2/
LOCATION:Agoura Hills Recreation Center\, 29900 Ladyface Court\, Agoura Hills\, CA\, 91301\, United States
ORGANIZER;CN="Providence Financial and Insurance Services%2C Inc.":MAILTO:info@providencefinancialinc.com
END:VEVENT
BEGIN:VEVENT
DTSTART;TZID=UTC:20190509T140000
DTEND;TZID=UTC:20190509T153000
DTSTAMP:20260422T155228
CREATED:20190509T051357Z
LAST-MODIFIED:20190509T053937Z
UID:6037-1557410400-1557415800@providencefinancialinc.com
SUMMARY:Required Minimum Distribution Seminar
DESCRIPTION:If you’re approaching 70\, the IRS wants your IRA! Baby boomers who own a traditional IRA\, 401(k) or other qualified retirement plan will soon have to face taking their Required Minimum Distributions (RMD’s). Suddenly\, a portion of your tax-deferred savings will be taxable again and the impact on your portfolio could be significant if you’re not armed with the right information. \nThis seminar will answer questions such as:\nwhen do I have to take my RMD – and are there exceptions?\nhow much will I have to take out?\nhow much tax liability will it create?\nhow does it impact my Social Security? \nThe seminar is FREE to the public but seating is limited. Call us today at 844.326.4392 to reserve your space or RSVP online at www.yoursvp.org (enter code BABPUK). \nThe workshop will be taught by Anthony A. Saccaro\, ChFC\, J.D.\, who is a member of the Ed Slott Master Elite IRA Advisor Group.
URL:https://providencefinancialinc.com/event/required-minimum-distribution-seminar/
LOCATION:Agoura Hills Recreation Center\, 29900 Ladyface Court\, Agoura Hills\, CA\, 91301\, United States
ORGANIZER;CN="Providence Financial and Insurance Services%2C Inc.":MAILTO:info@providencefinancialinc.com
END:VEVENT
END:VCALENDAR