BEGIN:VCALENDAR
VERSION:2.0
PRODID:-//Providence Financial - ECPv6.15.20//NONSGML v1.0//EN
CALSCALE:GREGORIAN
METHOD:PUBLISH
X-WR-CALNAME:Providence Financial
X-ORIGINAL-URL:https://providencefinancialinc.com
X-WR-CALDESC:Events for Providence Financial
REFRESH-INTERVAL;VALUE=DURATION:PT1H
X-Robots-Tag:noindex
X-PUBLISHED-TTL:PT1H
BEGIN:VTIMEZONE
TZID:UTC
BEGIN:STANDARD
TZOFFSETFROM:+0000
TZOFFSETTO:+0000
TZNAME:UTC
DTSTART:20180101T000000
END:STANDARD
END:VTIMEZONE
BEGIN:VEVENT
DTSTART;TZID=UTC:20190801T180000
DTEND;TZID=UTC:20190801T193000
DTSTAMP:20260422T144818
CREATED:20190803T034318Z
LAST-MODIFIED:20190803T034318Z
UID:6140-1564682400-1564687800@providencefinancialinc.com
SUMMARY:Estate Planning Seminar
DESCRIPTION:Often times\, an Estate Plan is vital for any individual\, couple or family that owns a home and has assets. It’s time to make sure your Estate Planning is in good order. You will learn various methods on how your family can be protected from unnecessary legal fees and wasted time with Probate and potentially prevent the loss of your hard earned assets from a Nursing Home should you require care. This seminar will provide you with facts that are straightforward and easy to understand. \nWe will discuss several important issues\, including: \n\nthe advantages and disadvantages of Wills and Living Trusts\nhow Powers of Attorney work (some Powers of Attorney may not be valid and thus powerless if you become disabled)\nhow Probate works\, and why you may want to avoid it for your family\nwhy putting property in children’s names may be a mistake\nhow to protect your home and your savings if you end up in a nursing home\nhow you may be able to protect assets inherited by your heirs from lawsuits\, divorce\, and other claims\n\nThis workshop will be taught by Anthony A. Saccaro\, ChFC\, J. D.\, Esq. The seminar is FREE but seating is limited. Please call us at 855.737.1557 to reserve your spot or RSVP online at www.yoursvp.com (enter code XUGJAB).
URL:https://providencefinancialinc.com/event/estate-planning-seminar/
LOCATION:Simi Valley Public Library\, 2969 Tapo Canyon Road\, Simi Valley\, CA\, 93063\, United States
ORGANIZER;CN="Providence Financial and Insurance Services%2C Inc.":MAILTO:info@providencefinancialinc.com
END:VEVENT
BEGIN:VEVENT
DTSTART;TZID=UTC:20190717T180000
DTEND;TZID=UTC:20190717T193000
DTSTAMP:20260422T144818
CREATED:20190702T034934Z
LAST-MODIFIED:20190702T034934Z
UID:6102-1563386400-1563391800@providencefinancialinc.com
SUMMARY:IRA Seminar
DESCRIPTION:Many people contribute to their IRAs\, 401(k)s and other qualified retirement plans for years without fully understanding the rules\, tax implications and options that are available to them – until it’s too late. Please join Anthony Saccaro\, ChFC\, J.D.\, Esq.\, for a presentation especially for retirees or those retiring soon. You will learn specific strategies designed to minimize the tax impact of IRA or 401(k) distributions\, and how to hold on to more of your hard-earned money for yourself – and your beneficiaries. \nCommon Topics: \n\nThe US debt is $20 trillion and climbing. Find out what the government isn’t telling you about your IRA and 401k.\nWith major tax changes\, how can you position your assets now for the most tax efficient income during retirement?\nHow to avoid losing up to 50% of your IRA to the IRS!\nThe importance of distribution planning (understanding the rules may allow you to reduce your risk and keep more of your hard-earned money!)\nHow can you increase your income now?\nIf you recently converted to a Roth IRA (or you’re thinking about it) what’s next? Find out why not having a plan in place could end up being a costly mistake.\n\nThe seminar is FREE to the public but seating is limited. Call us today at (833) 387-1188 to reserve your space or RSVP online at www.yoursvp.org (enter code TETSAB).
URL:https://providencefinancialinc.com/event/ira-seminar-2/
LOCATION:Buena Vista Public Library\, 300 N. Buena Vista St.\, Burbank\, CA\, 91501\, United States
ORGANIZER;CN="Providence Financial and Insurance Services%2C Inc.":MAILTO:info@providencefinancialinc.com
END:VEVENT
BEGIN:VEVENT
DTSTART;TZID=UTC:20190716T183000
DTEND;TZID=UTC:20190716T200000
DTSTAMP:20260422T144818
CREATED:20190702T035517Z
LAST-MODIFIED:20190702T035517Z
UID:6108-1563301800-1563307200@providencefinancialinc.com
SUMMARY:Social Security Seminar
DESCRIPTION:2019 is setting up to be a tumultuous year for Social Security. Current laws or modifications to past laws may impact your benefits and the way you make your election. Your Social Security claiming strategies can vary dramatically depending on numerous factors that the government doesn’t share directly with you. Often\, you must find out the information on your own. Come and learn more at this group presentation\, hosted by local retirement specialist\, Lorraine Grossman\, Registered Investment Advisor. This educational event will cover the basics of Social Security and reveal the latest strategies for maximizing your benefits. \nDuring this one-hour educational class\, you will learn: \n\nHow the decisions and policies of the current administration may impact your retirement income.\nWhen do I have to start taking Social Security?\nHow to reduce taxation on your Social Security after you start receiving your benefits.\nHow two special claiming strategies may increase your total benefits.\nHow married couples may avoid missing out on substantial benefits.\nHow to receive benefits from an ex-spouse.\n\nThe seminar is FREE to the public but seating is limited. Call us today at (833) 497-4207 to reserve your space\, or register online at www.yoursvp.org (enter code XELVAK).
URL:https://providencefinancialinc.com/event/social-security-seminar-4/
LOCATION:Agoura Hills Recreation Center\, 29900 Ladyface Court\, Agoura Hills\, CA\, 91301\, United States
ORGANIZER;CN="Providence Financial and Insurance Services%2C Inc.":MAILTO:info@providencefinancialinc.com
END:VEVENT
BEGIN:VEVENT
DTSTART;TZID=UTC:20190711T140000
DTEND;TZID=UTC:20190711T153000
DTSTAMP:20260422T144818
CREATED:20190702T034832Z
LAST-MODIFIED:20190702T034832Z
UID:6099-1562853600-1562859000@providencefinancialinc.com
SUMMARY:IRA Seminar
DESCRIPTION:Many people contribute to their IRAs\, 401(k)s and other qualified retirement plans for years without fully understanding the rules\, tax implications and options that are available to them – until it’s too late. Please join Anthony Saccaro\, ChFC\, J.D.\, Esq.\, for a presentation especially for retirees or those retiring soon. You will learn specific strategies designed to minimize the tax impact of IRA or 401(k) distributions\, and how to hold on to more of your hard-earned money for yourself – and your beneficiaries. \nCommon Topics: \n\nThe US debt is $20 trillion and climbing. Find out what the government isn’t telling you about your IRA and 401k.\nWith major tax changes\, how can you position your assets now for the most tax efficient income during retirement?\nHow to avoid losing up to 50% of your IRA to the IRS!\nThe importance of distribution planning (understanding the rules may allow you to reduce your risk and keep more of your hard-earned money!)\nHow can you increase your income now?\nIf you recently converted to a Roth IRA (or you’re thinking about it) what’s next? Find out why not having a plan in place could end up being a costly mistake.\n\nThe seminar is FREE to the public but seating is limited. Call us today at (833) 387-1188 to reserve your space or RSVP online at www.yoursvp.org (enter code TETSAB).
URL:https://providencefinancialinc.com/event/ira-seminar/
LOCATION:Buena Vista Public Library\, 300 N. Buena Vista St.\, Burbank\, CA\, 91501\, United States
ORGANIZER;CN="Providence Financial and Insurance Services%2C Inc.":MAILTO:info@providencefinancialinc.com
END:VEVENT
BEGIN:VEVENT
DTSTART;TZID=UTC:20190710T183000
DTEND;TZID=UTC:20190710T200000
DTSTAMP:20260422T144818
CREATED:20190702T035440Z
LAST-MODIFIED:20190702T035440Z
UID:6106-1562783400-1562788800@providencefinancialinc.com
SUMMARY:Social Security Seminar
DESCRIPTION:2019 is setting up to be a tumultuous year for Social Security. Current laws or modifications to past laws may impact your benefits and the way you make your election. Your Social Security claiming strategies can vary dramatically depending on numerous factors that the government doesn’t share directly with you. Often\, you must find out the information on your own. Come and learn more at this group presentation\, hosted by local retirement specialist\, Lorraine Grossman\, Registered Investment Advisor. This educational event will cover the basics of Social Security and reveal the latest strategies for maximizing your benefits. \nDuring this one-hour educational class\, you will learn: \n\nHow the decisions and policies of the current administration may impact your retirement income.\nWhen do I have to start taking Social Security?\nHow to reduce taxation on your Social Security after you start receiving your benefits.\nHow two special claiming strategies may increase your total benefits.\nHow married couples may avoid missing out on substantial benefits.\nHow to receive benefits from an ex-spouse.\n\nThe seminar is FREE to the public but seating is limited. Call us today at (833) 497-4207 to reserve your space\, or register online at www.yoursvp.org (enter code XELVAK).
URL:https://providencefinancialinc.com/event/social-security-seminar-3/
LOCATION:Agoura Hills Recreation Center\, 29900 Ladyface Court\, Agoura Hills\, CA\, 91301\, United States
ORGANIZER;CN="Providence Financial and Insurance Services%2C Inc.":MAILTO:info@providencefinancialinc.com
END:VEVENT
BEGIN:VEVENT
DTSTART;TZID=UTC:20190612T183000
DTEND;TZID=UTC:20190612T200000
DTSTAMP:20260422T144818
CREATED:20190509T052618Z
LAST-MODIFIED:20190702T035352Z
UID:6055-1560364200-1560369600@providencefinancialinc.com
SUMMARY:Social Security Seminar
DESCRIPTION:2019 is setting up to be a tumultuous year for Social Security. Current laws or modifications to past laws may impact your benefits and the way you make your election. Your Social Security claiming strategies can vary dramatically depending on numerous factors that the government doesn’t share directly with you. Often\, you must find out the information on your own. Come and learn more at this group presentation\, hosted by local retirement specialist\, Lorraine Grossman\, Registered Investment Advisor. This educational event will cover the basics of Social Security and reveal the latest strategies for maximizing your benefits. \nDuring this one-hour educational class\, you will learn: \n\nHow the decisions and policies of the current administration may impact your retirement income.\nWhen do I have to start taking Social Security?\nHow to reduce taxation on your Social Security after you start receiving your benefits.\nHow two special claiming strategies may increase your total benefits.\nHow married couples may avoid missing out on substantial benefits.\nHow to receive benefits from an ex-spouse.\n\nThe seminar is FREE to the public but seating is limited. Call us today at (833) 497-4207 to reserve your space\, or register online at www.yoursvp.org (enter code XELVAK).
URL:https://providencefinancialinc.com/event/social-security-seminar-2/
LOCATION:Woodland Hills Public Library\, 22200 Ventura Blvd.\, Woodland Hills\, CA\, 91364\, United States
ORGANIZER;CN="Providence Financial and Insurance Services%2C Inc.":MAILTO:info@providencefinancialinc.com
END:VEVENT
BEGIN:VEVENT
DTSTART;TZID=UTC:20190606T183000
DTEND;TZID=UTC:20190606T200000
DTSTAMP:20260422T144818
CREATED:20190509T052458Z
LAST-MODIFIED:20190509T053827Z
UID:6050-1559845800-1559851200@providencefinancialinc.com
SUMMARY:Social Security Seminar
DESCRIPTION:This seminar will answer questions such as:\n– when do I have to take my Social Security?\n– is it better to wait to collect Social Security until later in life?\n– how much tax liability will it create?\n– what Social Security benefits are available to married couples? \nThe seminar is FREE to the public but seating is limited. Call us today at 844.744.8477 to reserve your space\, or register online at www.yoursvp.org (enter code JUVDEL). \nThe workshop will be taught by Lorraine Grossman\, Registered Investment Advisor.
URL:https://providencefinancialinc.com/event/social-security-seminar/
LOCATION:Woodland Hills Public Library\, 22200 Ventura Blvd.\, Woodland Hills\, CA\, 91364\, United States
ORGANIZER;CN="Providence Financial and Insurance Services%2C Inc.":MAILTO:info@providencefinancialinc.com
END:VEVENT
BEGIN:VEVENT
DTSTART;TZID=UTC:20190605T140000
DTEND;TZID=UTC:20190605T153000
DTSTAMP:20260422T144818
CREATED:20190509T051915Z
LAST-MODIFIED:20190509T053843Z
UID:6048-1559743200-1559748600@providencefinancialinc.com
SUMMARY:Required Minimum Distribution Seminar
DESCRIPTION:If you’re approaching 70\, the IRS wants your IRA! Baby boomers who own a traditional IRA\, 401(k) or other qualified retirement plan will soon have to face taking their Required Minimum Distributions (RMD’s). Suddenly\, a portion of your tax-deferred savings will be taxable again and the impact on your portfolio could be significant if you’re not armed with the right information. \nThis seminar will answer questions such as:\nwhen do I have to take my RMD – and are there exceptions?\nhow much will I have to take out?\nhow much tax liability will it create?\nhow does it impact my Social Security? \nThe seminar is FREE to the public but seating is limited. Call us today at 855.212.4838 to reserve your space or RSVP online at www.yoursvp.org (enter code FEVJAL). \nThe workshop will be taught by Anthony A. Saccaro\, ChFC\, J.D.\, who is a member of the Ed Slott Master Elite IRA Advisor Group.
URL:https://providencefinancialinc.com/event/required-minimum-distribution-seminar-4/
LOCATION:Northridge Public Library\, 9051 Darby Avenue\, Nothridge\, CA\, 91325\, United States
ORGANIZER;CN="Providence Financial and Insurance Services%2C Inc.":MAILTO:info@providencefinancialinc.com
END:VEVENT
BEGIN:VEVENT
DTSTART;TZID=UTC:20190530T140000
DTEND;TZID=UTC:20190530T153000
DTSTAMP:20260422T144818
CREATED:20190509T051810Z
LAST-MODIFIED:20190509T053859Z
UID:6045-1559224800-1559230200@providencefinancialinc.com
SUMMARY:Required Minimum Distribution Seminar
DESCRIPTION:If you’re approaching 70\, the IRS wants your IRA! Baby boomers who own a traditional IRA\, 401(k) or other qualified retirement plan will soon have to face taking their Required Minimum Distributions (RMD’s). Suddenly\, a portion of your tax-deferred savings will be taxable again and the impact on your portfolio could be significant if you’re not armed with the right information. \nThis seminar will answer questions such as:\nwhen do I have to take my RMD – and are there exceptions?\nhow much will I have to take out?\nhow much tax liability will it create?\nhow does it impact my Social Security? \nThe seminar is FREE to the public but seating is limited. Call us today at 855.212.4838 to reserve your space or RSVP online at www.yoursvp.org (enter code FEVJAL). \nThe workshop will be taught by Anthony A. Saccaro\, ChFC\, J.D.\, who is a member of the Ed Slott Master Elite IRA Advisor Group.
URL:https://providencefinancialinc.com/event/required-minimum-distribution-seminar-3/
LOCATION:Northridge Public Library\, 9051 Darby Avenue\, Nothridge\, CA\, 91325\, United States
ORGANIZER;CN="Providence Financial and Insurance Services%2C Inc.":MAILTO:info@providencefinancialinc.com
END:VEVENT
BEGIN:VEVENT
DTSTART;TZID=UTC:20190514T180000
DTEND;TZID=UTC:20190514T193000
DTSTAMP:20260422T144818
CREATED:20190509T051531Z
LAST-MODIFIED:20190509T053921Z
UID:6043-1557856800-1557862200@providencefinancialinc.com
SUMMARY:Required Minimum Distribution Seminar
DESCRIPTION:If you’re approaching 70\, the IRS wants your IRA! Baby boomers who own a traditional IRA\, 401(k) or other qualified retirement plan will soon have to face taking their Required Minimum Distributions (RMD’s). Suddenly\, a portion of your tax-deferred savings will be taxable again and the impact on your portfolio could be significant if you’re not armed with the right information. \nThis seminar will answer questions such as:\nwhen do I have to take my RMD – and are there exceptions?\nhow much will I have to take out?\nhow much tax liability will it create?\nhow does it impact my Social Security? \nThe seminar is FREE to the public but seating is limited. Call us today at 844.326.4392 to reserve your space or RSVP online at www.yoursvp.org (enter code BABPUK). \nThe workshop will be taught by Anthony A. Saccaro\, ChFC\, J.D.\, who is a member of the Ed Slott Master Elite IRA Advisor Group.
URL:https://providencefinancialinc.com/event/required-minimum-distribution-seminar-2/
LOCATION:Agoura Hills Recreation Center\, 29900 Ladyface Court\, Agoura Hills\, CA\, 91301\, United States
ORGANIZER;CN="Providence Financial and Insurance Services%2C Inc.":MAILTO:info@providencefinancialinc.com
END:VEVENT
BEGIN:VEVENT
DTSTART;TZID=UTC:20190509T140000
DTEND;TZID=UTC:20190509T153000
DTSTAMP:20260422T144818
CREATED:20190509T051357Z
LAST-MODIFIED:20190509T053937Z
UID:6037-1557410400-1557415800@providencefinancialinc.com
SUMMARY:Required Minimum Distribution Seminar
DESCRIPTION:If you’re approaching 70\, the IRS wants your IRA! Baby boomers who own a traditional IRA\, 401(k) or other qualified retirement plan will soon have to face taking their Required Minimum Distributions (RMD’s). Suddenly\, a portion of your tax-deferred savings will be taxable again and the impact on your portfolio could be significant if you’re not armed with the right information. \nThis seminar will answer questions such as:\nwhen do I have to take my RMD – and are there exceptions?\nhow much will I have to take out?\nhow much tax liability will it create?\nhow does it impact my Social Security? \nThe seminar is FREE to the public but seating is limited. Call us today at 844.326.4392 to reserve your space or RSVP online at www.yoursvp.org (enter code BABPUK). \nThe workshop will be taught by Anthony A. Saccaro\, ChFC\, J.D.\, who is a member of the Ed Slott Master Elite IRA Advisor Group.
URL:https://providencefinancialinc.com/event/required-minimum-distribution-seminar/
LOCATION:Agoura Hills Recreation Center\, 29900 Ladyface Court\, Agoura Hills\, CA\, 91301\, United States
ORGANIZER;CN="Providence Financial and Insurance Services%2C Inc.":MAILTO:info@providencefinancialinc.com
END:VEVENT
END:VCALENDAR