BEGIN:VCALENDAR
VERSION:2.0
PRODID:-//Providence Financial - ECPv6.15.20//NONSGML v1.0//EN
CALSCALE:GREGORIAN
METHOD:PUBLISH
X-WR-CALNAME:Providence Financial
X-ORIGINAL-URL:https://providencefinancialinc.com
X-WR-CALDESC:Events for Providence Financial
REFRESH-INTERVAL;VALUE=DURATION:PT1H
X-Robots-Tag:noindex
X-PUBLISHED-TTL:PT1H
BEGIN:VTIMEZONE
TZID:America/New_York
BEGIN:DAYLIGHT
TZOFFSETFROM:-0500
TZOFFSETTO:-0400
TZNAME:EDT
DTSTART:20230312T070000
END:DAYLIGHT
BEGIN:STANDARD
TZOFFSETFROM:-0400
TZOFFSETTO:-0500
TZNAME:EST
DTSTART:20231105T060000
END:STANDARD
BEGIN:DAYLIGHT
TZOFFSETFROM:-0500
TZOFFSETTO:-0400
TZNAME:EDT
DTSTART:20240310T070000
END:DAYLIGHT
BEGIN:STANDARD
TZOFFSETFROM:-0400
TZOFFSETTO:-0500
TZNAME:EST
DTSTART:20241103T060000
END:STANDARD
BEGIN:DAYLIGHT
TZOFFSETFROM:-0500
TZOFFSETTO:-0400
TZNAME:EDT
DTSTART:20250309T070000
END:DAYLIGHT
BEGIN:STANDARD
TZOFFSETFROM:-0400
TZOFFSETTO:-0500
TZNAME:EST
DTSTART:20251102T060000
END:STANDARD
END:VTIMEZONE
BEGIN:VEVENT
DTSTART;TZID=America/New_York:20240905T140000
DTEND;TZID=America/New_York:20240905T153000
DTSTAMP:20260421T060024
CREATED:20240819T232035Z
LAST-MODIFIED:20240819T232035Z
UID:8365-1725544800-1725550200@providencefinancialinc.com
SUMMARY:Social Security Seminar - Zachary Gunderson\, Fiduciary Investment Advisor
DESCRIPTION:Claiming Social Security at the Wrong Age May Reduce Your Benefit by up to 57%!\n\nFind out how claiming your Social Security benefits at the right time could mean an extra $100\,000 over your lifetime!\n\n\n\nNew laws and proposed changes to Social Security have the potential to impact your benefits and quality of life during retirement. In a world where suddenly there is so much more uncertainty\, instability and risk\, how we think about retirement may change. In these uncertain times certain strategies could become essential:\n\n\n\n\n\n how to help avoid personal disaster in the face of wild market dips\n\n\n how to avoid a health care financial calamity with elevated health risks\n\n\n 3 timeless techniques to a more stable income amid global disruption\n\n\n how to optimize your Social Security income to help secure your income base\n\n\n strategies to help prevent taxes from taking 30% of your savings\n\n\n how the decisions and policies of the current administration may impact your retirement income\n\n\n how to help reduce taxation on your Social Security after you start receiving your benefits\n\n\n how two special claiming strategies may increase your total benefits\n\n\n how married couples may avoid missing out on substantial benefits\n\n\n how to receive benefits from an ex-spouse\n\nThis seminar will be presented by Zachary Gunderson\, Fiduciary Investment Advisor. Attendance is FREE but registration is required – call us at (818) 887-6443 to register.
URL:https://providencefinancialinc.com/event/social-security-seminar-zachary-gunderson-fiduciary-investment-advisor-5/
LOCATION:Stevenson Ranch Public Library\, 25950 The Old Road\, Stevenson Ranch\, CA\, 91381\, United States
ORGANIZER;CN="Providence Financial and Insurance Services%2C Inc.":MAILTO:info@providencefinancialinc.com
END:VEVENT
BEGIN:VEVENT
DTSTART;TZID=America/New_York:20240910T180000
DTEND;TZID=America/New_York:20240910T193000
DTSTAMP:20260421T060024
CREATED:20240819T232142Z
LAST-MODIFIED:20240819T232142Z
UID:8367-1725991200-1725996600@providencefinancialinc.com
SUMMARY:Social Security Seminar - Zachary Gunderson\, Fiduciary Investment Advisor
DESCRIPTION:Claiming Social Security at the Wrong Age May Reduce Your Benefit by up to 57%!\n\nFind out how claiming your Social Security benefits at the right time could mean an extra $100\,000 over your lifetime!\n\n\n\nNew laws and proposed changes to Social Security have the potential to impact your benefits and quality of life during retirement. In a world where suddenly there is so much more uncertainty\, instability and risk\, how we think about retirement may change. In these uncertain times certain strategies could become essential:\n\n\n\n\n\n how to help avoid personal disaster in the face of wild market dips\n\n\n how to avoid a health care financial calamity with elevated health risks\n\n\n 3 timeless techniques to a more stable income amid global disruption\n\n\n how to optimize your Social Security income to help secure your income base\n\n\n strategies to help prevent taxes from taking 30% of your savings\n\n\n how the decisions and policies of the current administration may impact your retirement income\n\n\n how to help reduce taxation on your Social Security after you start receiving your benefits\n\n\n how two special claiming strategies may increase your total benefits\n\n\n how married couples may avoid missing out on substantial benefits\n\n\n how to receive benefits from an ex-spouse\n\nThis seminar will be presented by Zachary Gunderson\, Fiduciary Investment Advisor. Attendance is FREE but registration is required – call us at (818) 887-6443 to register.
URL:https://providencefinancialinc.com/event/social-security-seminar-zachary-gunderson-fiduciary-investment-advisor-6/
LOCATION:Stevenson Ranch Public Library\, 25950 The Old Road\, Stevenson Ranch\, CA\, 91381\, United States
ORGANIZER;CN="Providence Financial and Insurance Services%2C Inc.":MAILTO:info@providencefinancialinc.com
END:VEVENT
BEGIN:VEVENT
DTSTART;TZID=America/New_York:20240911T180000
DTEND;TZID=America/New_York:20240911T193000
DTSTAMP:20260421T060024
CREATED:20240819T231602Z
LAST-MODIFIED:20240819T231602Z
UID:8361-1726077600-1726083000@providencefinancialinc.com
SUMMARY:Social Security Seminar - Lorraine Grossman\, Fiduciary Investment Advisor
DESCRIPTION:Claiming Social Security at the Wrong Age May Reduce Your Benefit by up to 57%!\n\nFind out how claiming your Social Security benefits at the right time could mean an extra $100\,000 over your lifetime!\n\n\n\nNew laws and proposed changes to Social Security have the potential to impact your benefits and quality of life during retirement. In a world where suddenly there is so much more uncertainty\, instability and risk\, how we think about retirement may change. In these uncertain times certain strategies could become essential:\n\n\n\n\n\n how to help avoid personal disaster in the face of wild market dips\n\n\n how to avoid a health care financial calamity with elevated health risks\n\n\n 3 timeless techniques to a more stable income amid global disruption\n\n\n how to optimize your Social Security income to help secure your income base\n\n\n strategies to help prevent taxes from taking 30% of your savings\n\n\n how the decisions and policies of the current administration may impact your retirement income\n\n\n how to help reduce taxation on your Social Security after you start receiving your benefits\n\n\n how two special claiming strategies may increase your total benefits\n\n\n how married couples may avoid missing out on substantial benefits\n\n\n how to receive benefits from an ex-spouse\n\nThis seminar will be presented by Lorraine Grossman\, Fiduciary Investment Advisor. Attendance is FREE but registration is required – call us at (818) 887-6443 to register.
URL:https://providencefinancialinc.com/event/social-security-seminar-lorraine-grossman-fiduciary-investment-advisor-5/
LOCATION:Simi Valley Public Library\, 2969 Tapo Canyon Road\, Simi Valley\, CA\, 93063\, United States
ORGANIZER;CN="Providence Financial and Insurance Services%2C Inc.":MAILTO:info@providencefinancialinc.com
END:VEVENT
BEGIN:VEVENT
DTSTART;TZID=America/New_York:20240917T140000
DTEND;TZID=America/New_York:20240917T153000
DTSTAMP:20260421T060024
CREATED:20240819T231654Z
LAST-MODIFIED:20240819T231654Z
UID:8363-1726581600-1726587000@providencefinancialinc.com
SUMMARY:Social Security Seminar - Lorraine Grossman\, Fiduciary Investment Advisor
DESCRIPTION:Claiming Social Security at the Wrong Age May Reduce Your Benefit by up to 57%!\n\nFind out how claiming your Social Security benefits at the right time could mean an extra $100\,000 over your lifetime!\n\n\n\nNew laws and proposed changes to Social Security have the potential to impact your benefits and quality of life during retirement. In a world where suddenly there is so much more uncertainty\, instability and risk\, how we think about retirement may change. In these uncertain times certain strategies could become essential:\n\n\n\n\n\n how to help avoid personal disaster in the face of wild market dips\n\n\n how to avoid a health care financial calamity with elevated health risks\n\n\n 3 timeless techniques to a more stable income amid global disruption\n\n\n how to optimize your Social Security income to help secure your income base\n\n\n strategies to help prevent taxes from taking 30% of your savings\n\n\n how the decisions and policies of the current administration may impact your retirement income\n\n\n how to help reduce taxation on your Social Security after you start receiving your benefits\n\n\n how two special claiming strategies may increase your total benefits\n\n\n how married couples may avoid missing out on substantial benefits\n\n\n how to receive benefits from an ex-spouse\n\nThis seminar will be presented by Lorraine Grossman\, Fiduciary Investment Advisor. Attendance is FREE but registration is required – call us at (818) 887-6443 to register.
URL:https://providencefinancialinc.com/event/social-security-seminar-lorraine-grossman-fiduciary-investment-advisor-6/
LOCATION:Simi Valley Public Library\, 2969 Tapo Canyon Road\, Simi Valley\, CA\, 93063\, United States
ORGANIZER;CN="Providence Financial and Insurance Services%2C Inc.":MAILTO:info@providencefinancialinc.com
END:VEVENT
BEGIN:VEVENT
DTSTART;TZID=America/New_York:20240924T183000
DTEND;TZID=America/New_York:20240924T203000
DTSTAMP:20260421T060024
CREATED:20240903T230648Z
LAST-MODIFIED:20240903T230648Z
UID:8372-1727202600-1727209800@providencefinancialinc.com
SUMMARY:Surviving Retirement Dinner Seminar - Lorraine Grossman\, Fiduciary Investment Advisor
DESCRIPTION:Are you concerned about the Financial Market Forecast?\nLearn how to recover\, where to invest\, and how to create income. \nThis informational meal event is for area residents 56 and older who are retired orplanning to retire soon. This informative and entertaining program is COMPLIMENTARY. There is no obligation. Enjoy a complimentary meal limmediately after the presentation. \nPlease join local retirement specialist Lorraine Grossman\, Fiduciary Investment Advisor\, who will share insights on taxes\, the economy\, potential changes coming from Washington and what it all means for your retirement. Best of all\, you will leave with information designed to help you act immediately\, such as: \n– Strategies to better position your assets to help minimize inflationary and looming Bear market recession threats to your nest egg and income. \n– How to maintain your purchasing power in retirement\, despite rising inflation. \n– Ways rising inflation will impact your retirement and how to adjust NOW. \n– What safeguards you can put in place to help weather stock market volatility. \n– How to create strategies so you are less likely to outlive your assets. \n– How to help generate income and build an investment portfolio in inflationary times. \n– How do you outpace growing inflation and taxes? \nGetting a second opinion may be one of the most important financial decisions of your life. This dinner seminar is complimentary but you must call us at (818) 887-6443 to reserve your seat.
URL:https://providencefinancialinc.com/event/surviving-retirement-dinner-seminar-lorraine-grossman-fiduciary-investment-advisor-3/
LOCATION:Morton’s The Steakhouse\, 3400 West Olive Ave.\, Burbank\, CA\, 91505\, United States
ORGANIZER;CN="Providence Financial and Insurance Services%2C Inc.":MAILTO:info@providencefinancialinc.com
END:VEVENT
BEGIN:VEVENT
DTSTART;TZID=America/New_York:20240930T183000
DTEND;TZID=America/New_York:20240930T203000
DTSTAMP:20260421T060024
CREATED:20240903T230755Z
LAST-MODIFIED:20240903T230755Z
UID:8375-1727721000-1727728200@providencefinancialinc.com
SUMMARY:Surviving Retirement Dinner Seminar - Lorraine Grossman\, Fiduciary Investment Advisor
DESCRIPTION:Are you concerned about the Financial Market Forecast?\nLearn how to recover\, where to invest\, and how to create income. \nThis informational meal event is for area residents 56 and older who are retired orplanning to retire soon. This informative and entertaining program is COMPLIMENTARY. There is no obligation. Enjoy a complimentary meal limmediately after the presentation. \nPlease join local retirement specialist Lorraine Grossman\, Fiduciary Investment Advisor\, who will share insights on taxes\, the economy\, potential changes coming from Washington and what it all means for your retirement. Best of all\, you will leave with information designed to help you act immediately\, such as: \n– Strategies to better position your assets to help minimize inflationary and looming Bear market recession threats to your nest egg and income. \n– How to maintain your purchasing power in retirement\, despite rising inflation. \n– Ways rising inflation will impact your retirement and how to adjust NOW. \n– What safeguards you can put in place to help weather stock market volatility. \n– How to create strategies so you are less likely to outlive your assets. \n– How to help generate income and build an investment portfolio in inflationary times. \n– How do you outpace growing inflation and taxes? \nGetting a second opinion may be one of the most important financial decisions of your life. This dinner seminar is complimentary but you must call us at (818) 887-6443 to reserve your seat.
URL:https://providencefinancialinc.com/event/surviving-retirement-dinner-seminar-lorraine-grossman-fiduciary-investment-advisor-4/
LOCATION:Morton’s The Steakhouse\, 3400 West Olive Ave.\, Burbank\, CA\, 91505\, United States
ORGANIZER;CN="Providence Financial and Insurance Services%2C Inc.":MAILTO:info@providencefinancialinc.com
END:VEVENT
END:VCALENDAR